BEGIN:VCALENDAR
VERSION:2.0
PRODID:-//Lylewood Christian Camp - ECPv6.15.20//NONSGML v1.0//EN
CALSCALE:GREGORIAN
METHOD:PUBLISH
X-WR-CALNAME:Lylewood Christian Camp
X-ORIGINAL-URL:https://www.lylewood.org
X-WR-CALDESC:Events for Lylewood Christian Camp
REFRESH-INTERVAL;VALUE=DURATION:PT1H
X-Robots-Tag:noindex
X-PUBLISHED-TTL:PT1H
BEGIN:VTIMEZONE
TZID:America/Chicago
BEGIN:DAYLIGHT
TZOFFSETFROM:-0600
TZOFFSETTO:-0500
TZNAME:CDT
DTSTART:20250309T080000
END:DAYLIGHT
BEGIN:STANDARD
TZOFFSETFROM:-0500
TZOFFSETTO:-0600
TZNAME:CST
DTSTART:20251102T070000
END:STANDARD
BEGIN:DAYLIGHT
TZOFFSETFROM:-0600
TZOFFSETTO:-0500
TZNAME:CDT
DTSTART:20260308T080000
END:DAYLIGHT
BEGIN:STANDARD
TZOFFSETFROM:-0500
TZOFFSETTO:-0600
TZNAME:CST
DTSTART:20261101T070000
END:STANDARD
BEGIN:DAYLIGHT
TZOFFSETFROM:-0600
TZOFFSETTO:-0500
TZNAME:CDT
DTSTART:20270314T080000
END:DAYLIGHT
BEGIN:STANDARD
TZOFFSETFROM:-0500
TZOFFSETTO:-0600
TZNAME:CST
DTSTART:20271107T070000
END:STANDARD
END:VTIMEZONE
BEGIN:VEVENT
DTSTART;TZID=America/Chicago:20260912T090000
DTEND;TZID=America/Chicago:20260912T170000
DTSTAMP:20260419T073414
CREATED:20251103T190525Z
LAST-MODIFIED:20251103T190529Z
UID:5599-1789203600-1789232400@www.lylewood.org
SUMMARY:Fall Prep Work Day
DESCRIPTION:As the leaves begin to change\, it’s time to get camp ready for our busy fall retreat season! Come spend the day helping with cleanup\, light maintenance\, and fall setup projects around the property. \n\n\n\nIt’s always a great time of service\, fellowship\, and laughter — plus a chance to see camp in one of its most beautiful seasons. Everyone is welcome\, and we’ll have plenty of projects for all skill levels!
URL:https://www.lylewood.org/event/fall-prep-work-day/
LOCATION:Lylewood Christian Camp\, 150 Camp Lylewood Rd\, Indian Mound\, TN\, 37079\, United States
CATEGORIES:Volunteering,Work Day
ORGANIZER;CN="Lylewood Christian Camp":MAILTO:contact@lylewood.org
END:VEVENT
BEGIN:VEVENT
DTSTART;TZID=America/Chicago:20260925T170000
DTEND;TZID=America/Chicago:20260927T100000
DTSTAMP:20260419T073414
CREATED:20251103T185718Z
LAST-MODIFIED:20260223T222152Z
UID:5591-1790355600-1790503200@www.lylewood.org
SUMMARY:Elementary Fall Retreat
DESCRIPTION:Grades 2 – 5 | Directed by TBA \n\n\n\nFall is the perfect time to come back to camp! Kids will love this cozy weekend full of Bible stories\, games\, crafts\, and outdoor adventures surrounded by the beauty of Lylewood in autumn. It’s a smaller\, laid-back version of summer camp — but with all the same fun and excitement!
URL:https://www.lylewood.org/event/elementary-fall-retreat/
LOCATION:Lylewood Christian Camp\, 150 Camp Lylewood Rd\, Indian Mound\, TN\, 37079\, United States
CATEGORIES:Elementary School
END:VEVENT
END:VCALENDAR